BEGIN:VCALENDAR
PRODID:-//eluceo/ical//2.0/EN
VERSION:2.0
CALSCALE:GREGORIAN
BEGIN:VEVENT
UID:def37f7dbabf37c7c0ca2d29bb197b55
DTSTAMP:20260422T191512Z
SUMMARY:Bregenzer Festspiele mit Partnerclub Markdorf
DESCRIPTION:Separates Programm und Anmeldung
URL:https://rotary-angenstein.ch/bs/agenda/show/43633
DTSTART;TZID=Europe/Zurich:20140815T000000
DTEND;TZID=Europe/Zurich:20140816T000000
LOCATION:Bregenz
CATEGORIES:Rotary
END:VEVENT
BEGIN:VTIMEZONE
TZID:Europe/Zurich
BEGIN:DAYLIGHT
DTSTART:20140815T000000
TZNAME:CEST
TZOFFSETTO:+0200
TZOFFSETFROM:+0200
END:DAYLIGHT
END:VTIMEZONE
END:VCALENDAR
