BEGIN:VCALENDAR
PRODID:-//eluceo/ical//2.0/EN
VERSION:2.0
CALSCALE:GREGORIAN
BEGIN:VEVENT
UID:295526181d3058112eef01f37e836603
DTSTAMP:20260422T192205Z
SUMMARY:Vortrag Prof. A. Kiss\, Universistätsspital Basel: Psychosomatik 
DESCRIPTION:
URL:https://rotary-angenstein.ch/bs/agenda/show/43634
DTSTART;TZID=Europe/Zurich:20140818T120000
DTEND;TZID=Europe/Zurich:20140818T133000
LOCATION:Stifung Kloster Dornach
CATEGORIES:Rotary
END:VEVENT
BEGIN:VTIMEZONE
TZID:Europe/Zurich
BEGIN:DAYLIGHT
DTSTART:20140818T120000
TZNAME:CEST
TZOFFSETTO:+0200
TZOFFSETFROM:+0200
END:DAYLIGHT
END:VTIMEZONE
END:VCALENDAR
