BEGIN:VCALENDAR
PRODID:-//eluceo/ical//2.0/EN
VERSION:2.0
CALSCALE:GREGORIAN
BEGIN:VEVENT
UID:191789bf909af678d23d6744de2cf162
DTSTAMP:20260422T180944Z
SUMMARY:Partner- /Familienanlass Flugplatz Dittingen
DESCRIPTION:Wichtig: ab 1700 Uhr wegen der Möglichkeit für Flüge!
URL:https://rotary-angenstein.ch/bs/agenda/show/43636
DTSTART;TZID=Europe/Zurich:20140826T170000
DTEND;TZID=Europe/Zurich:20140826T230000
LOCATION:Flugplatz Dittingen
CATEGORIES:Rotary
END:VEVENT
BEGIN:VTIMEZONE
TZID:Europe/Zurich
BEGIN:DAYLIGHT
DTSTART:20140826T170000
TZNAME:CEST
TZOFFSETTO:+0200
TZOFFSETFROM:+0200
END:DAYLIGHT
END:VTIMEZONE
END:VCALENDAR
