BEGIN:VCALENDAR
PRODID:-//eluceo/ical//2.0/EN
VERSION:2.0
CALSCALE:GREGORIAN
BEGIN:VEVENT
UID:678663f6e3013508ef40525f947cafb9
DTSTAMP:20260422T192035Z
SUMMARY:Das Herz
DESCRIPTION:Govornik(ci): Vortrag Dr. K. Heer\, Kardiologie
URL:https://rotary-angenstein.ch/bs/agenda/show/44502
DTSTART;TZID=Europe/Zurich:20140915T120000
DTEND;TZID=Europe/Zurich:20140915T120000
LOCATION:Stifung Kloster Dornach
CATEGORIES:Rotary
END:VEVENT
BEGIN:VTIMEZONE
TZID:Europe/Zurich
BEGIN:DAYLIGHT
DTSTART:20140915T120000
TZNAME:CEST
TZOFFSETTO:+0200
TZOFFSETFROM:+0200
END:DAYLIGHT
END:VTIMEZONE
END:VCALENDAR
