BEGIN:VCALENDAR
PRODID:-//eluceo/ical//2.0/EN
VERSION:2.0
CALSCALE:GREGORIAN
BEGIN:VEVENT
UID:bd8c43329e207685c7e15bb81e8a87a9
DTSTAMP:20260421T123631Z
SUMMARY:Plauderlunch
DESCRIPTION:Amtsübergabe
URL:https://rotary-angenstein.ch/bs/agenda/show/51371
DTSTART;TZID=Europe/Zurich:20150629T120000
DTEND;TZID=Europe/Zurich:20150629T120000
LOCATION:Stiftung Kloster Dornach
CATEGORIES:Rotary
END:VEVENT
BEGIN:VTIMEZONE
TZID:Europe/Zurich
BEGIN:DAYLIGHT
DTSTART:20150629T120000
TZNAME:CEST
TZOFFSETTO:+0200
TZOFFSETFROM:+0200
END:DAYLIGHT
END:VTIMEZONE
END:VCALENDAR
