BEGIN:VCALENDAR
PRODID:-//eluceo/ical//2.0/EN
VERSION:2.0
CALSCALE:GREGORIAN
BEGIN:VEVENT
UID:467b650e2ee8e1237dd333a385b546d3
DTSTAMP:20260422T212037Z
SUMMARY:Fakelunch
DESCRIPTION:Pieter Bruegel wird in seinem Referat auf seine Darstellungen 
 des bäuerlichen Lebens im Herzogtum Brabant eingehen. Sein Augenmerk wird
  er dabei auf das\n\n\nVerhältnis zwischen realitätsnaher Abbildung des
  Alltag und der Allegorie legen respektive auf den\nEinfluss von Sprichw
 örtern\, Volkskultur und Humanismus in seinem Gesamtwerk.\n\n\nIn einem z
 weiten Teil beantwortet er Fragen zum Geschäftsmodel "Maler" im 16. Jahr
 hundert.\nWeb stranica: http://de.wikipedia.org/wiki/Pieter_Bruegel_der_Ä
 ltere\nGovornik(ci): Pieter Bruegel d. o.\nMaler\, Unternehmer\, Lebemann\
 , genannt "Bauernbruegel"\nArbeitet und wohnt in Antwerpen\, Flandern
URL:https://rotary-angenstein.ch/bs/agenda/show/51396
DTSTART;TZID=Europe/Zurich:20150604T120000
DTEND;TZID=Europe/Zurich:20150604T120000
LOCATION:Stifung Kloster Dornach
CATEGORIES:Rotary
END:VEVENT
BEGIN:VTIMEZONE
TZID:Europe/Zurich
BEGIN:DAYLIGHT
DTSTART:20150604T120000
TZNAME:CEST
TZOFFSETTO:+0200
TZOFFSETFROM:+0200
END:DAYLIGHT
END:VTIMEZONE
END:VCALENDAR
