BEGIN:VCALENDAR
PRODID:-//eluceo/ical//2.0/EN
VERSION:2.0
CALSCALE:GREGORIAN
BEGIN:VEVENT
UID:51c20f36c6db7dd6a0b0aae2d0a54bad
DTSTAMP:20260423T072719Z
SUMMARY:Klassifikationsvortrag
DESCRIPTION:Web stranica: https://www.klosterdornach.ch\nGovornik(ci): Rot.
  Rolf Güdemann
URL:https://rotary-angenstein.ch/bs/agenda/show/77597
DTSTART;TZID=Europe/Zurich:20171127T114500
DTEND;TZID=Europe/Zurich:20171127T133000
LOCATION:Kloster Dornach
CATEGORIES:Rotary
END:VEVENT
BEGIN:VTIMEZONE
TZID:Europe/Zurich
BEGIN:STANDARD
DTSTART:20171127T114500
TZNAME:CET
TZOFFSETTO:+0100
TZOFFSETFROM:+0100
END:STANDARD
END:VTIMEZONE
END:VCALENDAR
