BEGIN:VCALENDAR
PRODID:-//eluceo/ical//2.0/EN
VERSION:2.0
CALSCALE:GREGORIAN
BEGIN:VEVENT
UID:8f98ac2919d282acc04ec665873c6297
DTSTAMP:20260425T104249Z
SUMMARY:Was fehlt eigentlich den Buben?
DESCRIPTION:Partneranlass!\n\nBuben werden heute vielfach als Bildungsverli
 erer bezeichnet. Auch wenn diese Bezeichnung dramatisiert: Am schlechteren
  Schulerfolg von Buben ist erkennbar\, dass es Schwierigkeiten gibt\; zude
 m erleben Lehrkräfte ihr Verhalten immer mehr als herausfordernd.\nBislan
 g blieben die Diskussionen um Buben in der Schule in Fakten und Klischees 
 stecken. Ideen für eine Veränderung finden sich kaum.\n\nDr. Reinhard Wi
 nter ist ein profunder Kenner der Thematik und zeigt auf\, dass es Lösung
 en gibt\, ja geben muss.  Wir dürfen gespannt sein auf einen Referenten\
 , der sich in der Genderfrage -- die sich heute durch alle Lebensbereiche 
 durchzuziehen scheint -- bestens auskennt.\n\n \nGovornik(ci): https://de
 .wikipedia.org/wiki/Reinhard_Winter\nhttp://www.sowit.de/personen/reinhard
 -winter/\n
URL:https://rotary-angenstein.ch/bs/agenda/show/89878
DTSTART;TZID=Europe/Zurich:20190115T180000
DTEND;TZID=Europe/Zurich:20190115T220000
LOCATION:Stifung Kloster Dornach
CATEGORIES:Rotary
END:VEVENT
BEGIN:VTIMEZONE
TZID:Europe/Zurich
BEGIN:STANDARD
DTSTART:20190115T180000
TZNAME:CET
TZOFFSETTO:+0100
TZOFFSETFROM:+0100
END:STANDARD
END:VTIMEZONE
END:VCALENDAR
