BEGIN:VCALENDAR
PRODID:-//eluceo/ical//2.0/EN
VERSION:2.0
CALSCALE:GREGORIAN
BEGIN:VEVENT
UID:84793eccebf65d3aee2fbd6c06b60503
DTSTAMP:20260425T213524Z
SUMMARY:Lunch\, Vortrag: „Fremdevaluation an den Schulen der Kantone Aarg
 au und Solothurn“
DESCRIPTION:„Fremdevaluation an den Schulen der Kantone Aargau und Soloth
 urn“: Wie wird die Qualität einer geleiteten Schule evaluiert? Welches 
 ist der politische Hintergrund für die Evaluationen der\nSchulen?\nRefere
 nten/innen: Heidi Zumbrunnen\, FHNW\, Pädagogische Hochschule
URL:https://rotary-angenstein.ch/de/agenda/show/31193
DTSTART;TZID=Europe/Zurich:20130527T121500
DTEND;TZID=Europe/Zurich:20130527T121500
LOCATION:Stifung Kloster Dornach
CATEGORIES:Rotary
END:VEVENT
BEGIN:VTIMEZONE
TZID:Europe/Zurich
BEGIN:DAYLIGHT
DTSTART:20130527T121500
TZNAME:CEST
TZOFFSETTO:+0200
TZOFFSETFROM:+0200
END:DAYLIGHT
END:VTIMEZONE
END:VCALENDAR
