BEGIN:VCALENDAR
PRODID:-//eluceo/ical//2.0/EN
VERSION:2.0
CALSCALE:GREGORIAN
BEGIN:VEVENT
UID:c0e972b6dd8fb34379ae31b9c1361ba8
DTSTAMP:20260425T201204Z
SUMMARY:Lunch mit Vortrag 
DESCRIPTION:Webseite: http://www.klosterdornach.ch\nReferenten/innen: Fritz
  Weibel\, Dr. phil.\nGedanken zu 3-König
URL:https://rotary-angenstein.ch/de/agenda/show/37878
DTSTART;TZID=Europe/Zurich:20140106T120000
DTEND;TZID=Europe/Zurich:20140106T140000
LOCATION:Stifung Kloster Dornach
CATEGORIES:Rotary
END:VEVENT
BEGIN:VTIMEZONE
TZID:Europe/Zurich
BEGIN:STANDARD
DTSTART:20140106T120000
TZNAME:CET
TZOFFSETTO:+0100
TZOFFSETFROM:+0100
END:STANDARD
END:VTIMEZONE
END:VCALENDAR
