BEGIN:VCALENDAR
PRODID:-//eluceo/ical//2.0/EN
VERSION:2.0
CALSCALE:GREGORIAN
BEGIN:VEVENT
UID:d3a010addbd67928ba2405aaff20806e
DTSTAMP:20260425T201020Z
SUMMARY:Partneranlass
DESCRIPTION:Referenten/innen: Treberwurstessen\, Ambros Thüring Weinbau\nE
 ttingen
URL:https://rotary-angenstein.ch/de/agenda/show/37880
DTSTART;TZID=Europe/Zurich:20140114T180000
DTEND;TZID=Europe/Zurich:20140114T220000
LOCATION:Ambros Ettingen
CATEGORIES:Rotary
END:VEVENT
BEGIN:VTIMEZONE
TZID:Europe/Zurich
BEGIN:STANDARD
DTSTART:20140114T180000
TZNAME:CET
TZOFFSETTO:+0100
TZOFFSETFROM:+0100
END:STANDARD
END:VTIMEZONE
END:VCALENDAR
