BEGIN:VCALENDAR
PRODID:-//eluceo/ical//2.0/EN
VERSION:2.0
CALSCALE:GREGORIAN
BEGIN:VEVENT
UID:405486439c8a82311743cc395a85ee91
DTSTAMP:20260425T201111Z
SUMMARY:Lunch mit Vortrag
DESCRIPTION:Referenten/innen: Guilherme Oliveira Okasaki de Freitas\,\nInbo
 und Student
URL:https://rotary-angenstein.ch/de/agenda/show/37881
DTSTART;TZID=Europe/Zurich:20140120T120000
DTEND;TZID=Europe/Zurich:20140120T140000
LOCATION:Stifung Kloster Dornach
CATEGORIES:Rotary
END:VEVENT
BEGIN:VTIMEZONE
TZID:Europe/Zurich
BEGIN:STANDARD
DTSTART:20140120T120000
TZNAME:CET
TZOFFSETTO:+0100
TZOFFSETFROM:+0100
END:STANDARD
END:VTIMEZONE
END:VCALENDAR
