BEGIN:VCALENDAR
PRODID:-//eluceo/ical//2.0/EN
VERSION:2.0
CALSCALE:GREGORIAN
BEGIN:VEVENT
UID:e6b5e715c1a40f99f4178f8b59ad6706
DTSTAMP:20260426T013450Z
SUMMARY: Lunch mit Vortrag
DESCRIPTION:Referenten/innen: Rot. Christian Schuhmacher\, Dir. Birshofklin
 ik\nErfahrungen mit der neuen Spitalfinanzierung
URL:https://rotary-angenstein.ch/de/agenda/show/38950
DTSTART;TZID=Europe/Zurich:20140217T120000
DTEND;TZID=Europe/Zurich:20140217T133000
LOCATION:Stifung Kloster Dornach
CATEGORIES:Rotary
END:VEVENT
BEGIN:VTIMEZONE
TZID:Europe/Zurich
BEGIN:STANDARD
DTSTART:20140217T120000
TZNAME:CET
TZOFFSETTO:+0100
TZOFFSETFROM:+0100
END:STANDARD
END:VTIMEZONE
END:VCALENDAR
