BEGIN:VCALENDAR
PRODID:-//eluceo/ical//2.0/EN
VERSION:2.0
CALSCALE:GREGORIAN
BEGIN:VEVENT
UID:99d4a0b0b367eb53b7b2162013cde497
DTSTAMP:20260425T185745Z
SUMMARY:Plauderlunch
DESCRIPTION:
URL:https://rotary-angenstein.ch/de/agenda/show/43631
DTSTART;TZID=Europe/Zurich:20140804T120000
DTEND;TZID=Europe/Zurich:20140804T133000
LOCATION:Stifung Kloster Dornach
CATEGORIES:Rotary
END:VEVENT
BEGIN:VTIMEZONE
TZID:Europe/Zurich
BEGIN:DAYLIGHT
DTSTART:20140804T120000
TZNAME:CEST
TZOFFSETTO:+0200
TZOFFSETFROM:+0200
END:DAYLIGHT
END:VTIMEZONE
END:VCALENDAR
