BEGIN:VCALENDAR
PRODID:-//eluceo/ical//2.0/EN
VERSION:2.0
CALSCALE:GREGORIAN
BEGIN:VEVENT
UID:d4f47292f862762404f3a65420d722f2
DTSTAMP:20260425T185630Z
SUMMARY:Partneranlass: Kochen/Weindegustation 
DESCRIPTION:
URL:https://rotary-angenstein.ch/de/agenda/show/44501
DTSTART;TZID=Europe/Zurich:20140909T181500
DTEND;TZID=Europe/Zurich:20140909T181500
LOCATION:-
CATEGORIES:Rotary
END:VEVENT
BEGIN:VTIMEZONE
TZID:Europe/Zurich
BEGIN:DAYLIGHT
DTSTART:20140909T181500
TZNAME:CEST
TZOFFSETTO:+0200
TZOFFSETFROM:+0200
END:DAYLIGHT
END:VTIMEZONE
END:VCALENDAR
