BEGIN:VCALENDAR
PRODID:-//eluceo/ical//2.0/EN
VERSION:2.0
CALSCALE:GREGORIAN
BEGIN:VEVENT
UID:87beb520b2d48d7b9f5d1659f6612c29
DTSTAMP:20260425T202924Z
SUMMARY:Plauderlunch
DESCRIPTION:Referenten/innen: Verabschiedung Inbound\, Vorstellung Outbound
URL:https://rotary-angenstein.ch/de/agenda/show/51808
DTSTART;TZID=Europe/Zurich:20150622T120000
DTEND;TZID=Europe/Zurich:20150622T120000
LOCATION:Stiftung Kloster Dornach
CATEGORIES:Rotary
END:VEVENT
BEGIN:VTIMEZONE
TZID:Europe/Zurich
BEGIN:DAYLIGHT
DTSTART:20150622T120000
TZNAME:CEST
TZOFFSETTO:+0200
TZOFFSETFROM:+0200
END:DAYLIGHT
END:VTIMEZONE
END:VCALENDAR
