BEGIN:VCALENDAR
PRODID:-//eluceo/ical//2.0/EN
VERSION:2.0
CALSCALE:GREGORIAN
BEGIN:VEVENT
UID:994e2e7edbb8c23197f0a369212af410
DTSTAMP:20260426T000246Z
SUMMARY:fdsafa
DESCRIPTION:
URL:https://rotary-angenstein.ch/de/agenda/show/51814
DTSTART;TZID=Europe/Zurich:20150616T000000
DTEND;TZID=Europe/Zurich:20150616T000000
LOCATION:Stifung Kloster Dornach
CATEGORIES:Rotary
END:VEVENT
BEGIN:VTIMEZONE
TZID:Europe/Zurich
BEGIN:DAYLIGHT
DTSTART:20150616T000000
TZNAME:CEST
TZOFFSETTO:+0200
TZOFFSETFROM:+0200
END:DAYLIGHT
END:VTIMEZONE
END:VCALENDAR
