BEGIN:VCALENDAR
PRODID:-//eluceo/ical//2.0/EN
VERSION:2.0
CALSCALE:GREGORIAN
BEGIN:VEVENT
UID:930168709b30610be5d36e48b086babc
DTSTAMP:20260423T105000Z
SUMMARY:Veränderung im Cyberraum - Risiken kennen
DESCRIPTION:Was müssen wir wissen über Risiken im Cyberraum. Der Experte 
 der EBM informiert mit live demo...\nWebseite: http://www.ochsen.ch\nRefer
 enten/innen: Markus Lawrenz\, CISO EBM
URL:https://rotary-angenstein.ch/de/agenda/show/77592
DTSTART;TZID=Europe/Zurich:20170925T114500
DTEND;TZID=Europe/Zurich:20170925T140000
LOCATION:Rest. Ochsen\, Arlesheim
CATEGORIES:Rotary
END:VEVENT
BEGIN:VTIMEZONE
TZID:Europe/Zurich
BEGIN:DAYLIGHT
DTSTART:20170925T114500
TZNAME:CEST
TZOFFSETTO:+0200
TZOFFSETFROM:+0200
END:DAYLIGHT
END:VTIMEZONE
END:VCALENDAR
