BEGIN:VCALENDAR
PRODID:-//eluceo/ical//2.0/EN
VERSION:2.0
CALSCALE:GREGORIAN
BEGIN:VEVENT
UID:baf378e574cee8ec2e74abe8df43ec48
DTSTAMP:20260421T122237Z
SUMMARY:Club Versammlung
DESCRIPTION:Webseite: http://www.klosterdornach.ch
URL:https://rotary-angenstein.ch/de/agenda/show/77994
DTSTART;TZID=Europe/Zurich:20171204T114500
DTEND;TZID=Europe/Zurich:20171204T140000
LOCATION:Kloster Dornach
CATEGORIES:Rotary
END:VEVENT
BEGIN:VTIMEZONE
TZID:Europe/Zurich
BEGIN:STANDARD
DTSTART:20171204T114500
TZNAME:CET
TZOFFSETTO:+0100
TZOFFSETFROM:+0100
END:STANDARD
END:VTIMEZONE
END:VCALENDAR
