BEGIN:VCALENDAR
PRODID:-//eluceo/ical//2.0/EN
VERSION:2.0
CALSCALE:GREGORIAN
BEGIN:VEVENT
UID:275b914e364af753d745c436030ab10c
DTSTAMP:20260421T174541Z
SUMMARY:Projekt Vision 2020 Pfadiheim Dornach
DESCRIPTION:Webseite: http://www.klosterdornach.ch\nReferenten/innen: Herr 
 Pascal Haller stellt uns das Umbau-/Sanierungsprojekt Pfadiheim Dornach vo
 r.
URL:https://rotary-angenstein.ch/de/agenda/show/81377
DTSTART;TZID=Europe/Zurich:20180122T120000
DTEND;TZID=Europe/Zurich:20180122T130000
LOCATION:Stifung Kloster Dornach
CATEGORIES:Rotary
END:VEVENT
BEGIN:VTIMEZONE
TZID:Europe/Zurich
BEGIN:STANDARD
DTSTART:20180122T120000
TZNAME:CET
TZOFFSETTO:+0100
TZOFFSETFROM:+0100
END:STANDARD
END:VTIMEZONE
END:VCALENDAR
