BEGIN:VCALENDAR
PRODID:-//eluceo/ical//2.0/EN
VERSION:2.0
CALSCALE:GREGORIAN
BEGIN:VEVENT
UID:8bb67bf50bb1ed5679fdde792feb0251
DTSTAMP:20260421T122207Z
SUMMARY:Partneranlass - Mit Architektur Stadtbilder verändern
DESCRIPTION:19.00 Treffpunkt Apéro: Hochschule für Gestaltung und Kunst 
 NW\, Freilagerplatz 1\, Münchenstein (Tramhaltestelle Münchenstein\, Fre
 ilager) https://www.fhnw.ch/de/die-fhnw/standorte/campus-dreispitz\n\n20.0
 0 Treffpunkt Nachtessen: Bistro im HeK\, Haus der elektronischen Künste\
 , Freilagerpatz\, Münchenstein http://www.hek.ch/informationen/gastronom
 ie.html\n\n21.00 Uhr Treffpunkt Vortrag Jan Karup: ffbk Architekten AG\, O
 slostrasse 2\, Münchenstein https://www.ffbk.ch/kontakt/\nWebseite: http
 ://www.ffbk.ch\nReferenten/innen: Jan Krarup\, Dipl. Architekt ETH/SIA\, C
 EO\nffbk Architekten AG\, Basel
URL:https://rotary-angenstein.ch/de/agenda/show/81379
DTSTART;TZID=Europe/Zurich:20180109T190000
DTEND;TZID=Europe/Zurich:20180109T220000
LOCATION:Hochschule für Gestaltung und Kunst NW\, Freilager-Platz 1\, Mün
 chenstein
CATEGORIES:Rotary
END:VEVENT
BEGIN:VTIMEZONE
TZID:Europe/Zurich
BEGIN:STANDARD
DTSTART:20180109T190000
TZNAME:CET
TZOFFSETTO:+0100
TZOFFSETFROM:+0100
END:STANDARD
END:VTIMEZONE
END:VCALENDAR
