BEGIN:VCALENDAR
PRODID:-//eluceo/ical//2.0/EN
VERSION:2.0
CALSCALE:GREGORIAN
BEGIN:VEVENT
UID:6c71177a395eb8b138a7a6cad7eb1a4c
DTSTAMP:20260421T154902Z
SUMMARY:Plauderlunch
DESCRIPTION:Webseite: http://www.klosterdornach.ch\nReferenten/innen: Wir s
 tossen gemeinsam auf ein gutes neues Jahr 2018 an!
URL:https://rotary-angenstein.ch/de/agenda/show/81382
DTSTART;TZID=Europe/Zurich:20180115T120000
DTEND;TZID=Europe/Zurich:20180115T133000
LOCATION:Stifung Kloster Dornach
CATEGORIES:Rotary
END:VEVENT
BEGIN:VTIMEZONE
TZID:Europe/Zurich
BEGIN:STANDARD
DTSTART:20180115T120000
TZNAME:CET
TZOFFSETTO:+0100
TZOFFSETFROM:+0100
END:STANDARD
END:VTIMEZONE
END:VCALENDAR
