BEGIN:VCALENDAR
PRODID:-//eluceo/ical//2.0/EN
VERSION:2.0
CALSCALE:GREGORIAN
BEGIN:VEVENT
UID:e13187c3737448bd74c4dd60138268f5
DTSTAMP:20260421T103132Z
SUMMARY:Die Basler Aussenpolitik im Dschungel trinationaler Institutionen
DESCRIPTION:Webseite: http://www.klosterdornach.ch\nReferenten/innen: alt R
 R Dr. jur. Hans-Martin Tschudi
URL:https://rotary-angenstein.ch/de/agenda/show/84528
DTSTART;TZID=Europe/Zurich:20180528T120000
DTEND;TZID=Europe/Zurich:20180528T133000
LOCATION:Stifung Kloster Dornach
CATEGORIES:Rotary
END:VEVENT
BEGIN:VTIMEZONE
TZID:Europe/Zurich
BEGIN:DAYLIGHT
DTSTART:20180528T120000
TZNAME:CEST
TZOFFSETTO:+0200
TZOFFSETFROM:+0200
END:DAYLIGHT
END:VTIMEZONE
END:VCALENDAR
