BEGIN:VCALENDAR
PRODID:-//eluceo/ical//2.0/EN
VERSION:2.0
CALSCALE:GREGORIAN
BEGIN:VEVENT
UID:8cac33e47e6565c4a8723d218d2a714c
DTSTAMP:20260422T202025Z
SUMMARY:Partneranlass\, Jagdbummel
DESCRIPTION:Speaker(s): Führung mit Wildhüter Andreas Doppler über\njage
 n\, hegen und pflegen.\nTreffpunkt auf dem TCS Parkplatz unterhalb\nKeller
 grabenschlucht in Hofstetten.\nAnschliessend Nachtessen im Restaurant\n"Ch
URL:https://rotary-angenstein.ch/en/agenda/show/35581
DTSTART;TZID=Europe/Zurich:20130910T180000
DTEND;TZID=Europe/Zurich:20130910T180000
LOCATION:Stifung Kloster Dornach
CATEGORIES:Rotary
END:VEVENT
BEGIN:VTIMEZONE
TZID:Europe/Zurich
BEGIN:DAYLIGHT
DTSTART:20130910T180000
TZNAME:CEST
TZOFFSETTO:+0200
TZOFFSETFROM:+0200
END:DAYLIGHT
END:VTIMEZONE
END:VCALENDAR
