BEGIN:VCALENDAR
PRODID:-//eluceo/ical//2.0/EN
VERSION:2.0
CALSCALE:GREGORIAN
BEGIN:VEVENT
UID:a40d32028e83cc536587db314fa00e9d
DTSTAMP:20260424T004237Z
SUMMARY:Hands-on - Weihnachtsmarkt Dornach - Sonntag
DESCRIPTION:Sitio web: http://www.klosterdornach.ch
URL:https://rotary-angenstein.ch/es/agenda/show/150270
DTSTART;TZID=Europe/Zurich:20221204T100000
DTEND;TZID=Europe/Zurich:20221204T193000
LOCATION:... folgen
CATEGORIES:Rotary
END:VEVENT
BEGIN:VTIMEZONE
TZID:Europe/Zurich
BEGIN:STANDARD
DTSTART:20221204T100000
TZNAME:CET
TZOFFSETTO:+0100
TZOFFSETFROM:+0100
END:STANDARD
END:VTIMEZONE
END:VCALENDAR
