BEGIN:VCALENDAR
PRODID:-//eluceo/ical//2.0/EN
VERSION:2.0
CALSCALE:GREGORIAN
BEGIN:VEVENT
UID:539162a0cb11a848748ff7d442ffef8c
DTSTAMP:20260420T114550Z
SUMMARY:St.  Nikolaus im Altersheim
DESCRIPTION:Sitio web: https://www.google.ch/maps/place/Stiftung+Blumenrain
 /@47.5022286\,7.5589822\,18.42z/data=!4m5!3m4!1s0x4791c776e45784db:0xd42ef
 b12bbe3924f!8m2!3d47.5017014!4d7.5606475?hl=de\nOrador(es): 4 Samichläuse
  und 4 Schmutzli gesucht!!!Bitte auch zusätzlich direkt melden bei Claudi
 a\nClaudia.Strehl@hkvbs.ch
URL:https://rotary-angenstein.ch/es/agenda/show/152298
DTSTART;TZID=Europe/Zurich:20221206T171500
DTEND;TZID=Europe/Zurich:20221206T190000
LOCATION:Altersheim Therwil
CATEGORIES:Rotary
END:VEVENT
BEGIN:VTIMEZONE
TZID:Europe/Zurich
BEGIN:STANDARD
DTSTART:20221206T171500
TZNAME:CET
TZOFFSETTO:+0100
TZOFFSETFROM:+0100
END:STANDARD
END:VTIMEZONE
END:VCALENDAR
