BEGIN:VCALENDAR
PRODID:-//eluceo/ical//2.0/EN
VERSION:2.0
CALSCALE:GREGORIAN
BEGIN:VEVENT
UID:8be5ba1e764f4bb946e70a27de3fa40b
DTSTAMP:20260423T195758Z
SUMMARY:Plauder Lunch
DESCRIPTION:Orador(es): kein
URL:https://rotary-angenstein.ch/es/agenda/show/26092
DTSTART;TZID=Europe/Zurich:20120924T120000
DTEND;TZID=Europe/Zurich:20120924T120000
LOCATION:Stiftung Kloster Dornach
CATEGORIES:Rotary
END:VEVENT
BEGIN:VTIMEZONE
TZID:Europe/Zurich
BEGIN:DAYLIGHT
DTSTART:20120924T120000
TZNAME:CEST
TZOFFSETTO:+0200
TZOFFSETFROM:+0200
END:DAYLIGHT
END:VTIMEZONE
END:VCALENDAR
