BEGIN:VCALENDAR
PRODID:-//eluceo/ical//2.0/EN
VERSION:2.0
CALSCALE:GREGORIAN
BEGIN:VEVENT
UID:59701a11b70316a5732eea3e07a25f14
DTSTAMP:20260425T130835Z
SUMMARY:Lunch mit Führung durch Ausstellung "Geist und Luxus" (Kloster)
DESCRIPTION:Führung Ausstellung "Geist und Luxus" durch Barbara van der M
 eulen im Kloster Dornach (ca. 30 Minuten)\nSitio web: http://www.klosterdo
 rnach.ch\nOrador(es): Führung Ausstellung "Geist und Luxus" durch Barbara
  van der Meulen im Kloster Dornach (ca. 30 Minuten)
URL:https://rotary-angenstein.ch/es/agenda/show/69700
DTSTART;TZID=Europe/Zurich:20170123T120000
DTEND;TZID=Europe/Zurich:20170123T134500
LOCATION:Stifung Kloster Dornach
CATEGORIES:Rotary
END:VEVENT
BEGIN:VTIMEZONE
TZID:Europe/Zurich
BEGIN:STANDARD
DTSTART:20170123T120000
TZNAME:CET
TZOFFSETTO:+0100
TZOFFSETFROM:+0100
END:STANDARD
END:VTIMEZONE
END:VCALENDAR
