BEGIN:VCALENDAR
PRODID:-//eluceo/ical//2.0/EN
VERSION:2.0
CALSCALE:GREGORIAN
BEGIN:VEVENT
UID:fdfd8aaf2c331ca7d2f33bf1c13c06c0
DTSTAMP:20260424T105039Z
SUMMARY:Partneranlass (Dinner at home)
DESCRIPTION:Dinner at home\nOrador(es): Dinner at home
URL:https://rotary-angenstein.ch/es/agenda/show/71042
DTSTART;TZID=Europe/Zurich:20170411T000000
DTEND;TZID=Europe/Zurich:20170411T000000
LOCATION:-
CATEGORIES:Rotary
END:VEVENT
BEGIN:VTIMEZONE
TZID:Europe/Zurich
BEGIN:DAYLIGHT
DTSTART:20170411T000000
TZNAME:CEST
TZOFFSETTO:+0200
TZOFFSETFROM:+0200
END:DAYLIGHT
END:VTIMEZONE
END:VCALENDAR
