BEGIN:VCALENDAR
PRODID:-//eluceo/ical//2.0/EN
VERSION:2.0
CALSCALE:GREGORIAN
BEGIN:VEVENT
UID:19345dbf060b748fdb3251c15a5cd0a7
DTSTAMP:20260424T105017Z
SUMMARY:Lunch mit Referat
DESCRIPTION:Referat von Ixchel Juarez Gonzalez (Inbound)
URL:https://rotary-angenstein.ch/es/agenda/show/73418
DTSTART;TZID=Europe/Zurich:20170529T120000
DTEND;TZID=Europe/Zurich:20170529T134500
LOCATION:Gasthof Ochsen\, Arlesheim
CATEGORIES:Rotary
END:VEVENT
BEGIN:VTIMEZONE
TZID:Europe/Zurich
BEGIN:DAYLIGHT
DTSTART:20170529T120000
TZNAME:CEST
TZOFFSETTO:+0200
TZOFFSETFROM:+0200
END:DAYLIGHT
END:VTIMEZONE
END:VCALENDAR
