BEGIN:VCALENDAR
PRODID:-//eluceo/ical//2.0/EN
VERSION:2.0
CALSCALE:GREGORIAN
BEGIN:VEVENT
UID:3642a47df2f6a3380cad09db37dfc941
DTSTAMP:20260420T114040Z
SUMMARY:Referat Gemeindienst-Projekt Fogarasch\, Rumänien
DESCRIPTION:Rot. Ignaz Bloch stellt und ein Gemeindienstprojekt des RC Arle
 sheim vor.\nConférencier(s): Rot. Ignaz Bloch\, RC Arlesheim
URL:https://rotary-angenstein.ch/fr/agenda/show/77595
DTSTART;TZID=Europe/Zurich:20171023T114500
DTEND;TZID=Europe/Zurich:20171023T133000
LOCATION:Kloster Dornach
CATEGORIES:Rotary
END:VEVENT
BEGIN:VTIMEZONE
TZID:Europe/Zurich
BEGIN:DAYLIGHT
DTSTART:20171023T114500
TZNAME:CEST
TZOFFSETTO:+0200
TZOFFSETFROM:+0200
END:DAYLIGHT
END:VTIMEZONE
END:VCALENDAR
