BEGIN:VCALENDAR
PRODID:-//eluceo/ical//2.0/EN
VERSION:2.0
CALSCALE:GREGORIAN
BEGIN:VEVENT
UID:19ad96bf835663f7ab3db9a5f4336c45
DTSTAMP:20260420T131958Z
SUMMARY:Das Archiv der Basler Mission 
DESCRIPTION:Das ist ein Follow-up-Anlass zum Besuch im Missionshaus vom 13.
  November 2018.\nAuf vielseitigen Wunsch steigen wir nochmals in das Archi
 v der Basler Mission und nehmen uns dieses Mal etwas mehr Zeit\, wenigsten
 s einen Teil der Schätze genauer anzuschauen. Tausende von Tagebüchern\,
  Berichten\, Lexika\, Fotos und Karten sind ein unschätzbarer Fundus nich
 t nur für Historiker\, Linguisten\, Ethnografen\, Geografen\, Kunsthistor
 iker\, Anthropologen\, Theologen\, Kartografen\, Soziologen etc. sondern a
 uch für ein breites Publikum. Das Archiv zieht jedes Jahr Menschen aus al
 ler Welt an\, oft auch solche auf der Suche nach ihren eigenen Wurzeln.\nA
 nschliessend gemeinsames Essen. Der Anlass ist offen für Partner und Freu
 nde\, allerdings ist der Platz auf 20 Personen limitiert. Frühzeitiges An
 melden lohnt sich deshalb umsomehr.\n\n \nSite internet: http://www.bmarc
 hives.org/about
URL:https://rotary-angenstein.ch/fr/agenda/show/94919
DTSTART;TZID=Europe/Zurich:20190409T183000
DTEND;TZID=Europe/Zurich:20190409T220000
LOCATION:Archiv der Basler Mission\, Missionsstrasse 21\, Basel 
CATEGORIES:Rotary
END:VEVENT
BEGIN:VTIMEZONE
TZID:Europe/Zurich
BEGIN:DAYLIGHT
DTSTART:20190409T183000
TZNAME:CEST
TZOFFSETTO:+0200
TZOFFSETFROM:+0200
END:DAYLIGHT
END:VTIMEZONE
END:VCALENDAR
