BEGIN:VCALENDAR
PRODID:-//eluceo/ical//2.0/EN
VERSION:2.0
CALSCALE:GREGORIAN
BEGIN:VEVENT
UID:eedf14ea98b0242f35a1971281c6a7f4
DTSTAMP:20260424T220120Z
SUMMARY:Partneranlass: Strom- und Energiebranche im Wandel
DESCRIPTION:Am Dienstag\, 31.10. hat die Nationalrätliche Energiekommissio
 n die vollständiger Liberalisierung des Strommarktes gefordert. Was heiss
 t das für die Branche? Roger Baller gibt uns einen Überblick und Einbli
 ck in den Wandel\, der zur Zeit in der Branche stattfindet.\nVefsíða: ht
 tp://www.klosterdornach.ch\nFyrirlesari(ar): Roger Ballmer\, Leiter Netzbe
 trieb EBM und Projektleiter Integration AVAG
URL:https://rotary-angenstein.ch/is/agenda/show/80739
DTSTART;TZID=Europe/Zurich:20171114T190000
DTEND;TZID=Europe/Zurich:20171114T220000
LOCATION:Stifung Kloster Dornach
CATEGORIES:Rotary
END:VEVENT
BEGIN:VTIMEZONE
TZID:Europe/Zurich
BEGIN:STANDARD
DTSTART:20171114T190000
TZNAME:CET
TZOFFSETTO:+0100
TZOFFSETFROM:+0100
END:STANDARD
END:VTIMEZONE
END:VCALENDAR
