BEGIN:VCALENDAR
PRODID:-//eluceo/ical//2.0/EN
VERSION:2.0
CALSCALE:GREGORIAN
BEGIN:VEVENT
UID:51cec38fcd3547a1a3f57976363a4ba7
DTSTAMP:20260421T185937Z
SUMMARY:Reklassifikationsvortrag
DESCRIPTION:Vefsíða: http://www.klosterdornach.ch\nFyrirlesari(ar): Rot. 
 Thomas Sütterlin
URL:https://rotary-angenstein.ch/is/agenda/show/83933
DTSTART;TZID=Europe/Zurich:20180430T114500
DTEND;TZID=Europe/Zurich:20180430T133000
LOCATION:Stifung Kloster Dornach
CATEGORIES:Rotary
END:VEVENT
BEGIN:VTIMEZONE
TZID:Europe/Zurich
BEGIN:DAYLIGHT
DTSTART:20180430T114500
TZNAME:CEST
TZOFFSETTO:+0200
TZOFFSETFROM:+0200
END:DAYLIGHT
END:VTIMEZONE
END:VCALENDAR
