BEGIN:VCALENDAR
PRODID:-//eluceo/ical//2.0/EN
VERSION:2.0
CALSCALE:GREGORIAN
BEGIN:VEVENT
UID:d171e69c8285407e53602ce1b7c1be11
DTSTAMP:20260425T134508Z
SUMMARY:Radübergabe im Rathaus Solothurn
DESCRIPTION:Der Anlass muss wegen geringer Beteiligung abgesagt werden. 
URL:https://rotary-angenstein.ch/is/agenda/show/93772
DTSTART;TZID=Europe/Zurich:20190622T134000
DTEND;TZID=Europe/Zurich:20190622T224500
LOCATION:Rathaus Solothurn 
CATEGORIES:Rotary
END:VEVENT
BEGIN:VTIMEZONE
TZID:Europe/Zurich
BEGIN:DAYLIGHT
DTSTART:20190622T134000
TZNAME:CEST
TZOFFSETTO:+0200
TZOFFSETFROM:+0200
END:DAYLIGHT
END:VTIMEZONE
END:VCALENDAR
