BEGIN:VCALENDAR
PRODID:-//eluceo/ical//2.0/EN
VERSION:2.0
CALSCALE:GREGORIAN
BEGIN:VEVENT
UID:1e26b0e7c79edd2f2404967833750152
DTSTAMP:20260422T101937Z
SUMMARY:Plauderlunch
DESCRIPTION:
URL:https://rotary-angenstein.ch/it/agenda/show/101491
DTSTART;TZID=Europe/Zurich:20190715T120000
DTEND;TZID=Europe/Zurich:20190715T133000
LOCATION:Stifung Kloster Dornach
CATEGORIES:Rotary
END:VEVENT
BEGIN:VTIMEZONE
TZID:Europe/Zurich
BEGIN:DAYLIGHT
DTSTART:20190715T120000
TZNAME:CEST
TZOFFSETTO:+0200
TZOFFSETFROM:+0200
END:DAYLIGHT
END:VTIMEZONE
END:VCALENDAR
