BEGIN:VCALENDAR
PRODID:-//eluceo/ical//2.0/EN
VERSION:2.0
CALSCALE:GREGORIAN
BEGIN:VEVENT
UID:96d1c4b4b10c6c12144979cf91b42acb
DTSTAMP:20260422T121904Z
SUMMARY:RCA Morgenessen
DESCRIPTION:
URL:https://rotary-angenstein.ch/it/agenda/show/101492
DTSTART;TZID=Europe/Zurich:20190722T070000
DTEND;TZID=Europe/Zurich:20190722T083000
LOCATION:Stifung Kloster Dornach
CATEGORIES:Rotary
END:VEVENT
BEGIN:VTIMEZONE
TZID:Europe/Zurich
BEGIN:DAYLIGHT
DTSTART:20190722T070000
TZNAME:CEST
TZOFFSETTO:+0200
TZOFFSETFROM:+0200
END:DAYLIGHT
END:VTIMEZONE
END:VCALENDAR
