BEGIN:VCALENDAR
PRODID:-//eluceo/ical//2.0/EN
VERSION:2.0
CALSCALE:GREGORIAN
BEGIN:VEVENT
UID:404fcc8da76da09a77a78666b8f39322
DTSTAMP:20260425T105744Z
SUMMARY:Firmen-Besuch: Institut Straumann
DESCRIPTION:Sito web: https://www.straumann.com/group/en/home.html\nRelator
 e/i: 
URL:https://rotary-angenstein.ch/it/agenda/show/174825
DTSTART;TZID=Europe/Zurich:20240527T112000
DTEND;TZID=Europe/Zurich:20240527T133000
LOCATION:Institut Straumann\, Peter Merian-Weg 12\, 4052 Basel
CATEGORIES:Rotary
END:VEVENT
BEGIN:VTIMEZONE
TZID:Europe/Zurich
BEGIN:DAYLIGHT
DTSTART:20240527T112000
TZNAME:CEST
TZOFFSETTO:+0200
TZOFFSETFROM:+0200
END:DAYLIGHT
END:VTIMEZONE
END:VCALENDAR
