BEGIN:VCALENDAR
PRODID:-//eluceo/ical//2.0/EN
VERSION:2.0
CALSCALE:GREGORIAN
BEGIN:VEVENT
UID:3908a2e27767924869009282e934ab7d
DTSTAMP:20260421T154542Z
SUMMARY:Clubversammlung (Familienanlass Armbrustschiessen)
DESCRIPTION:
URL:https://rotary-angenstein.ch/it/agenda/show/70281
DTSTART;TZID=Europe/Zurich:20170624T093000
DTEND;TZID=Europe/Zurich:20170624T160000
LOCATION:Armbrustschützen Reinach
CATEGORIES:Rotary
END:VEVENT
BEGIN:VTIMEZONE
TZID:Europe/Zurich
BEGIN:DAYLIGHT
DTSTART:20170624T093000
TZNAME:CEST
TZOFFSETTO:+0200
TZOFFSETFROM:+0200
END:DAYLIGHT
END:VTIMEZONE
END:VCALENDAR
