BEGIN:VCALENDAR
PRODID:-//eluceo/ical//2.0/EN
VERSION:2.0
CALSCALE:GREGORIAN
BEGIN:VEVENT
UID:f20e0f0bd8cf5b3d2a01ab904df19e10
DTSTAMP:20260421T155035Z
SUMMARY:Lunch mit Referat
DESCRIPTION:Referat von Ken Borer (Outbound)
URL:https://rotary-angenstein.ch/it/agenda/show/73966
DTSTART;TZID=Europe/Zurich:20170619T120000
DTEND;TZID=Europe/Zurich:20170619T134500
LOCATION:Gasthof Ochsen\, Arlesheim
CATEGORIES:Rotary
END:VEVENT
BEGIN:VTIMEZONE
TZID:Europe/Zurich
BEGIN:DAYLIGHT
DTSTART:20170619T120000
TZNAME:CEST
TZOFFSETTO:+0200
TZOFFSETFROM:+0200
END:DAYLIGHT
END:VTIMEZONE
END:VCALENDAR
