BEGIN:VCALENDAR
PRODID:-//eluceo/ical//2.0/EN
VERSION:2.0
CALSCALE:GREGORIAN
BEGIN:VEVENT
UID:0edce0c230a23c64c00617a1c6af1b20
DTSTAMP:20260421T174728Z
SUMMARY:Familienanlass
DESCRIPTION:Treffpunkt um 18 Uhr beim Dom Arlesheim mit Spaziergang/Kurzwan
 derung zum Rest. Schlosshof Dornach. Dort werden wir ab ca. 19 Uhr gemütl
 ich Essen.\nRelatore/i: Wir spazieren vom Dom Arlesheim zum Rest. Schlossh
 of Dornach
URL:https://rotary-angenstein.ch/it/agenda/show/75055
DTSTART;TZID=Europe/Zurich:20170711T180000
DTEND;TZID=Europe/Zurich:20170711T220000
LOCATION:Domplatz Arlesheim/Rest. Schlosshof Dornach
CATEGORIES:Rotary
END:VEVENT
BEGIN:VTIMEZONE
TZID:Europe/Zurich
BEGIN:DAYLIGHT
DTSTART:20170711T180000
TZNAME:CEST
TZOFFSETTO:+0200
TZOFFSETFROM:+0200
END:DAYLIGHT
END:VTIMEZONE
END:VCALENDAR
