BEGIN:VCALENDAR
PRODID:-//eluceo/ical//2.0/EN
VERSION:2.0
CALSCALE:GREGORIAN
BEGIN:VEVENT
UID:edbf35d21a28b5175f8b7549bc96eead
DTSTAMP:20260421T154918Z
SUMMARY:Wettkampfbericht Schweizermeisterschaft 2017 Segelfliegen
DESCRIPTION:Relatore/i: Tom Sütterlin\, unser Vize-Schweizermeister berich
 tet von der Schweizermeisterschaft
URL:https://rotary-angenstein.ch/it/agenda/show/75056
DTSTART;TZID=Europe/Zurich:20170717T120000
DTEND;TZID=Europe/Zurich:20170717T140000
LOCATION:Rest. Ochsen\, Arlesheim
CATEGORIES:Rotary
END:VEVENT
BEGIN:VTIMEZONE
TZID:Europe/Zurich
BEGIN:DAYLIGHT
DTSTART:20170717T120000
TZNAME:CEST
TZOFFSETTO:+0200
TZOFFSETFROM:+0200
END:DAYLIGHT
END:VTIMEZONE
END:VCALENDAR
