BEGIN:VCALENDAR
PRODID:-//eluceo/ical//2.0/EN
VERSION:2.0
CALSCALE:GREGORIAN
BEGIN:VEVENT
UID:91b6eab39dfd0c1ad63806211a9a9f3a
DTSTAMP:20260421T171805Z
SUMMARY:Behandlung von Hüftfrakturn und Bandscheibenvorfällen
DESCRIPTION:Elmar Zurbriggen wird uns über Veränderungen in der Behandlu
 ng von Hüftfrakturen und Bandscheibenvorfällen berichten.\nSito web: htt
 p://www.ochsen.ch\nRelatore/i: Elmar Zubriggen\, Master of Sience ETH (Bio
 technologie) und lic. oec. HSG\, VP DePuy Synthes Franchise EMEA\, Johnson
  & Johnson
URL:https://rotary-angenstein.ch/it/agenda/show/77992
DTSTART;TZID=Europe/Zurich:20170821T120000
DTEND;TZID=Europe/Zurich:20170821T140000
LOCATION:Rest. Ochsen\, Arlesheim
CATEGORIES:Rotary
END:VEVENT
BEGIN:VTIMEZONE
TZID:Europe/Zurich
BEGIN:DAYLIGHT
DTSTART:20170821T120000
TZNAME:CEST
TZOFFSETTO:+0200
TZOFFSETFROM:+0200
END:DAYLIGHT
END:VTIMEZONE
END:VCALENDAR
