BEGIN:VCALENDAR
PRODID:-//eluceo/ical//2.0/EN
VERSION:2.0
CALSCALE:GREGORIAN
BEGIN:VEVENT
UID:5ff61fc0edbac630bf3f8105e1fa35f0
DTSTAMP:20260422T041730Z
SUMMARY:Flüchtlingshilfe direkt
DESCRIPTION:Frau Bertrams und Herr Wernder berichten über den Einsatz der 
 von uns gewährten  Spontan-/Soforthilfe\nSito web: http://www.klosterdor
 nach.ch\nRelatore/i: Frau Bertrams und Herr Werner
URL:https://rotary-angenstein.ch/it/agenda/show/83820
DTSTART;TZID=Europe/Zurich:20180305T114500
DTEND;TZID=Europe/Zurich:20180305T133000
LOCATION:Stifung Kloster Dornach
CATEGORIES:Rotary
END:VEVENT
BEGIN:VTIMEZONE
TZID:Europe/Zurich
BEGIN:STANDARD
DTSTART:20180305T114500
TZNAME:CET
TZOFFSETTO:+0100
TZOFFSETFROM:+0100
END:STANDARD
END:VTIMEZONE
END:VCALENDAR
