BEGIN:VCALENDAR
PRODID:-//eluceo/ical//2.0/EN
VERSION:2.0
CALSCALE:GREGORIAN
BEGIN:VEVENT
UID:eccf0fbd6f32b7947ade01a9e7c3bb93
DTSTAMP:20260422T004202Z
SUMMARY:Veränderung als Konstante im Konzern
DESCRIPTION:Herr Ritter wird uns zum Thema Veränderung aus seinem gelebten
  Berufsaltag berichten.\nSito web: http://www.klosterdornach.ch\nRelatore/
 i: Herr Josua Ritter\, Managing Director True Dyne Sensors AG\, Reinach
URL:https://rotary-angenstein.ch/it/agenda/show/83821
DTSTART;TZID=Europe/Zurich:20180319T114500
DTEND;TZID=Europe/Zurich:20180319T133000
LOCATION:Stifung Kloster Dornach
CATEGORIES:Rotary
END:VEVENT
BEGIN:VTIMEZONE
TZID:Europe/Zurich
BEGIN:STANDARD
DTSTART:20180319T114500
TZNAME:CET
TZOFFSETTO:+0100
TZOFFSETFROM:+0100
END:STANDARD
END:VTIMEZONE
END:VCALENDAR
