BEGIN:VCALENDAR
PRODID:-//eluceo/ical//2.0/EN
VERSION:2.0
CALSCALE:GREGORIAN
BEGIN:VEVENT
UID:9185cc3c9acc92661140fd424c19f246
DTSTAMP:20260421T224359Z
SUMMARY:Plauderlunch
DESCRIPTION:Wir nehmen's gemütlich zum Beginn der Osterferien\nSito web: h
 ttp://www.klosterdornach.ch
URL:https://rotary-angenstein.ch/it/agenda/show/83827
DTSTART;TZID=Europe/Zurich:20180326T114500
DTEND;TZID=Europe/Zurich:20180326T133000
LOCATION:Stifung Kloster Dornach
CATEGORIES:Rotary
END:VEVENT
BEGIN:VTIMEZONE
TZID:Europe/Zurich
BEGIN:DAYLIGHT
DTSTART:20180326T114500
TZNAME:CEST
TZOFFSETTO:+0200
TZOFFSETFROM:+0200
END:DAYLIGHT
END:VTIMEZONE
END:VCALENDAR
