BEGIN:VCALENDAR
PRODID:-//eluceo/ical//2.0/EN
VERSION:2.0
CALSCALE:GREGORIAN
BEGIN:VEVENT
UID:40176bee67290ba8a017d38c1d434aa4
DTSTAMP:20260421T224615Z
SUMMARY:Samuel und sein Jugend Austausch-Programm
DESCRIPTION:Sito web: http://www.klosterdornach.ch\nRelatore/i: Samuel erz
 ählt von seiner Motivation am Jugend Austausch-Programm YEP mitzumachen. 
 \nEr freut sich auf seine grosse Reise\, in eine neue unbekannte Welt.
URL:https://rotary-angenstein.ch/it/agenda/show/85919
DTSTART;TZID=Europe/Zurich:20180423T120000
DTEND;TZID=Europe/Zurich:20180423T133000
LOCATION:Stifung Kloster Dornach
CATEGORIES:Rotary
END:VEVENT
BEGIN:VTIMEZONE
TZID:Europe/Zurich
BEGIN:DAYLIGHT
DTSTART:20180423T120000
TZNAME:CEST
TZOFFSETTO:+0200
TZOFFSETFROM:+0200
END:DAYLIGHT
END:VTIMEZONE
END:VCALENDAR
