BEGIN:VCALENDAR
PRODID:-//eluceo/ical//2.0/EN
VERSION:2.0
CALSCALE:GREGORIAN
BEGIN:VEVENT
UID:e0e1729beae306bcb0af1ef123d89834
DTSTAMP:20260421T224213Z
SUMMARY:Überraschungsgast!
DESCRIPTION:Treu dem Motto "Bekanntes\, Unbekanntes" wollen wir in diesem J
 ahr auch ein paar Überraschungsgäste einladen\, die uns allen bekannt si
 nd  -- und als öffentliche Personen doch irgendwie unbekannt bleiben.\n\
 nDer Rotary-Club Angenstein bietet seinen Mitgliedern und Gästen die einz
 igartige Möglichkeit\, Unbekanntes von bekannten Persönlichkeiten zu erf
 ahren.\n\nNutzen wir die Chance! Über zahlreiche Anmeldungen und eine reg
 e Teilnahme freut sich nicht nur der Programmchef\, sondern auch unser Gas
 t.
URL:https://rotary-angenstein.ch/it/agenda/show/89812
DTSTART;TZID=Europe/Zurich:20180827T120000
DTEND;TZID=Europe/Zurich:20180827T140000
LOCATION:Stifung Kloster Dornach
CATEGORIES:Rotary
END:VEVENT
BEGIN:VTIMEZONE
TZID:Europe/Zurich
BEGIN:DAYLIGHT
DTSTART:20180827T120000
TZNAME:CEST
TZOFFSETTO:+0200
TZOFFSETFROM:+0200
END:DAYLIGHT
END:VTIMEZONE
END:VCALENDAR
