BEGIN:VCALENDAR
PRODID:-//eluceo/ical//2.0/EN
VERSION:2.0
CALSCALE:GREGORIAN
BEGIN:VEVENT
UID:e97295adf73ea069f00e80d83f3267ab
DTSTAMP:20260422T022925Z
SUMMARY:Ken Borer berichtet über sein Austauschjahr
DESCRIPTION:He was there. Now he's back.\n\nHey mate\, got stories to tell?
URL:https://rotary-angenstein.ch/it/agenda/show/90104
DTSTART;TZID=Europe/Zurich:20180903T120000
DTEND;TZID=Europe/Zurich:20180903T140000
LOCATION:Stifung Kloster Dornach
CATEGORIES:Rotary
END:VEVENT
BEGIN:VTIMEZONE
TZID:Europe/Zurich
BEGIN:DAYLIGHT
DTSTART:20180903T120000
TZNAME:CEST
TZOFFSETTO:+0200
TZOFFSETFROM:+0200
END:DAYLIGHT
END:VTIMEZONE
END:VCALENDAR
