BEGIN:VCALENDAR
PRODID:-//eluceo/ical//2.0/EN
VERSION:2.0
CALSCALE:GREGORIAN
BEGIN:VEVENT
UID:d10933a12b69b1817b75edecfd764213
DTSTAMP:20260421T224041Z
SUMMARY:Samuel Schaffner: Lehrer aus Leidenschaft
DESCRIPTION:Das Schuljahr hat gerade angefangen. Ein neuer Jahrgang geht zu
 m ersten Mal in die Schule. Die meisten Schüler beginnen zum 2.\, 3. oder
  x-ten Mal ein neues Schuljahr. Was erwartet sie\, wer erwartet sie?\n\nSa
 muel Schaffner beginnt sein Schuljahr mit der vierten Klasse. Es ist auch 
 sein viertes Jahr als Lehrer. Er ist ein begeisterter Lehrer. Leidenschaft
 lich erzählt er von seinen Schülern\, der Schule und seinem Beruf. Und e
 r begeistert seine Schüler\, deren Eltern und überhaupt seine Zuhörer\,
  ohne Powerpoint.\n\nAuch wer keine Kinder hat oder seine eigene Schulzeit
  lieber vergessen möchte\, wird mit Samuel Schaffner einen neuen Einblick
  auf das Thema Schule gewinnen. Uns allen ist Schule bekannt\, doch Unbeka
 nntes gibt es auch hier zuhauf!\n\nNicht verpassen!
URL:https://rotary-angenstein.ch/it/agenda/show/90105
DTSTART;TZID=Europe/Zurich:20180820T120000
DTEND;TZID=Europe/Zurich:20180820T140000
LOCATION:Stifung Kloster Dornach
CATEGORIES:Rotary
END:VEVENT
BEGIN:VTIMEZONE
TZID:Europe/Zurich
BEGIN:DAYLIGHT
DTSTART:20180820T120000
TZNAME:CEST
TZOFFSETTO:+0200
TZOFFSETFROM:+0200
END:DAYLIGHT
END:VTIMEZONE
END:VCALENDAR
